BEGIN:VCALENDAR
VERSION:2.0
PRODID:-//Das Planetenparty Prinzip - ECPv6.15.16//NONSGML v1.0//EN
CALSCALE:GREGORIAN
METHOD:PUBLISH
X-WR-CALNAME:Das Planetenparty Prinzip
X-ORIGINAL-URL:https://planetenparty.at
X-WR-CALDESC:Veranstaltungen für Das Planetenparty Prinzip
REFRESH-INTERVAL;VALUE=DURATION:PT1H
X-Robots-Tag:noindex
X-PUBLISHED-TTL:PT1H
BEGIN:VTIMEZONE
TZID:Europe/Vienna
BEGIN:DAYLIGHT
TZOFFSETFROM:+0100
TZOFFSETTO:+0200
TZNAME:CEST
DTSTART:20220327T010000
END:DAYLIGHT
BEGIN:STANDARD
TZOFFSETFROM:+0200
TZOFFSETTO:+0100
TZNAME:CET
DTSTART:20221030T010000
END:STANDARD
BEGIN:DAYLIGHT
TZOFFSETFROM:+0100
TZOFFSETTO:+0200
TZNAME:CEST
DTSTART:20230326T010000
END:DAYLIGHT
BEGIN:STANDARD
TZOFFSETFROM:+0200
TZOFFSETTO:+0100
TZNAME:CET
DTSTART:20231029T010000
END:STANDARD
BEGIN:DAYLIGHT
TZOFFSETFROM:+0100
TZOFFSETTO:+0200
TZNAME:CEST
DTSTART:20240331T010000
END:DAYLIGHT
BEGIN:STANDARD
TZOFFSETFROM:+0200
TZOFFSETTO:+0100
TZNAME:CET
DTSTART:20241027T010000
END:STANDARD
END:VTIMEZONE
BEGIN:VEVENT
DTSTART;TZID=Europe/Vienna:20231001T200000
DTEND;TZID=Europe/Vienna:20231001T210000
DTSTAMP:20260422T060916
CREATED:20231120T111338Z
LAST-MODIFIED:20231120T111452Z
UID:3242-1696190400-1696194000@planetenparty.at
SUMMARY:Who wants to be the mum?
DESCRIPTION:  \n\n\n\nEine Mutter\, die ist lieb. Eine Mutter\, die ist zärtlich. Eine Mutter\, die umsorgt\, streichelt\, füttert\, wickelt\, wäscht. Eine Mutter liebt zu sorgen\, eine Mutter liebt zu geben\, eine Mutter liebt – ihr Kind und ein jedes Opfer\, das sie bringt. \n\n\n\nWollen wir noch Mütter werden? Die Akzeptanz für Lebensentwürfe\, in denen keine Kinder vorgesehen sind\, mag steigen\, doch legt uns die kollektive Narration von einem glücklichen und sinnerfüllten Leben das Modell Kleinfamilie mit allen Norm- und Wertvorstellungen\, die damit verbunden sind\, immer noch dringlich ans Herz. \n\n\n\nMehr dazu… \n\n\n\n\n \n\n\n\n\nEine Kooperation mit dem steirischen herbst ’23 und dem Theater Petersplatz\, Wien. \n\n\n\n  \n\n\n\nREGIE Miriam Schmid / PERFORMANCE Alexander Benke\, Victoria Fux\, Nora Köhler / BÜHNE UND KOSTÜM Lisa Horvath / BÜHNENASSISTENZ Selina Grasser / DRAMATURGIE David J. Wimmer / KAMERA Vincent Seidl\, David J. Wimmer / REGIE- UND PRODUKTIONSASSISTENZ Andrea Meschik / PRODUKTIONSLEITUNG Alexander Benke / TECHNIK Tom Grassegger
URL:https://planetenparty.at/event/who-wants-to-be-the-mum-8/
LOCATION:Kristallwerk\, Viktor-Franz-Straße 9\, Graz\, Steiermark\, 8051\, Österreich
CATEGORIES:Spieltermine
END:VEVENT
END:VCALENDAR