BEGIN:VCALENDAR
VERSION:2.0
PRODID:-//Das Planetenparty Prinzip - ECPv6.15.16//NONSGML v1.0//EN
CALSCALE:GREGORIAN
METHOD:PUBLISH
X-WR-CALNAME:Das Planetenparty Prinzip
X-ORIGINAL-URL:https://planetenparty.at
X-WR-CALDESC:Veranstaltungen für Das Planetenparty Prinzip
REFRESH-INTERVAL;VALUE=DURATION:PT1H
X-Robots-Tag:noindex
X-PUBLISHED-TTL:PT1H
BEGIN:VTIMEZONE
TZID:Europe/Vienna
BEGIN:DAYLIGHT
TZOFFSETFROM:+0100
TZOFFSETTO:+0200
TZNAME:CEST
DTSTART:20230326T010000
END:DAYLIGHT
BEGIN:STANDARD
TZOFFSETFROM:+0200
TZOFFSETTO:+0100
TZNAME:CET
DTSTART:20231029T010000
END:STANDARD
BEGIN:DAYLIGHT
TZOFFSETFROM:+0100
TZOFFSETTO:+0200
TZNAME:CEST
DTSTART:20240331T010000
END:DAYLIGHT
BEGIN:STANDARD
TZOFFSETFROM:+0200
TZOFFSETTO:+0100
TZNAME:CET
DTSTART:20241027T010000
END:STANDARD
BEGIN:DAYLIGHT
TZOFFSETFROM:+0100
TZOFFSETTO:+0200
TZNAME:CEST
DTSTART:20250330T010000
END:DAYLIGHT
BEGIN:STANDARD
TZOFFSETFROM:+0200
TZOFFSETTO:+0100
TZNAME:CET
DTSTART:20251026T010000
END:STANDARD
END:VTIMEZONE
BEGIN:VEVENT
DTSTART;TZID=Europe/Vienna:20240220T200000
DTEND;TZID=Europe/Vienna:20240220T220000
DTSTAMP:20260421T233924
CREATED:20231120T104449Z
LAST-MODIFIED:20240220T123838Z
UID:3214-1708459200-1708466400@planetenparty.at
SUMMARY:Articulated - back then we were always naked
DESCRIPTION:Diverse Körperteile hocken auf einer Bühne und warten darauf\, sich präsentieren zu dürfen. Es knackst und tropft. Ein Kätzchen schleicht sich auf die Bühne und putzt seine Pfötchen. Leckt es sein Fell oder doch seine Schamhaare? Liegt dort ein Zeh oder doch ein Penis? Ein Nippel? Nein\, doch ein Zeh. Oder eine Nasenspitze? Herrje\, ist es etwa eine Arschritze? Die Falte zwischen Ober- und Unterschenkel? Eine Vulva? Eine Zunge? Egal\, jedenfalls ist man sich nicht sicher\, ob das jetzt die eigene Fantasie oder doch die der anderen ist. Wieso liegt da ein Sack? \n\n\n\n“Articulated – Back then we were always naked” ist ein Versuch\, über den eigenen Schatten zu springen. Das Stück beschäftigt sich mit den Themen Sex-Positivity\, Lust\, BDSM\, Grenzen und Macht. Zwei Frauen untersuchen ihre Körper\, ihre Sexualität und das Publikum wird herausgefordert\, hinzuschauen. Was schockiert noch\, wo liegen  die “Grenzen” heute\, oder variieren sie? Was hat das mit den Machtgefällen in unserer Gesellschaft zu tun? Was ist Real\, was Fantasie\, wer bestimmt hier über wen? \n\n\n\nMehr dazu… \n\n\n\nVORSTELLUNGEN:  \n\n\n\n20.02.-25.02.202420:00 Uhr \n\n\n\nARTist’s\, Schützgasse 16\, 8020 Graz \n\n\n\n\nTickets\n\n\n\n\nTEAM:  \n\n\n\nREGIE & PERFORMANCE: VICTORIA FUXPERFORMANCE: NORA KÖHLERAUSSTATTUNG: KATHARINA WRAUBEKCHOREOGRAFIE: MAJA KAROLINA FRANKEMENTORIN: NADJA BRACHVOGELMUSIK: JAKOB KOLBOUTSIDE EYE: ALEXANDER BENKETECHNIK: TOM GRASSEGGER\, MORITZ OSTANEKFOTO: CLARA WILDBERGER
URL:https://planetenparty.at/event/articulated-back-then-we-were-always-naked/
LOCATION:ARTist’s\, Schützgasse 16\, Graz\, 8020
CATEGORIES:Spieltermine
END:VEVENT
END:VCALENDAR